BEGIN:VCALENDAR
VERSION:2.0
PRODID:-//ExpressionEngine Easy iCalendar plugin//NONSGML v2.0.0//EN
X-WR-TIMEZONE:America/Chicago
X-WR-CALNAME:Upcoming Auctions
BEGIN:VEVENT
UID:158126
DTSTAMP:20260306T120000
DTSTART:20260306T120000
DTEND:20260416T180000
SUMMARY:700 Feltz Street\, Perryville MO 63775
LOCATION:700 Feltz Street\, Perryville\, MO 63775\, US
DESCRIPTION:This 2-story home located at 700 Feltz St. in Perryville\, MO
  offers 3 bedrooms\, 2 baths\, and approximately 1\,812 square 
 feet of living space on 1.27 acres\, providing a rare amount 
 of space within the city limits. Nestled back on the propert
 y\, the home offers a private\, tucked-away feel while still b
 eing conveniently close to town amenities. The property feat
 ures a 2-car attached garage and a detached shop with a half
  bath\, offering plenty of space for storage\, hobbies\, or wor
 kshop use. Served by city utilities\, this home combines the 
 convenience of in-town living with the privacy and space of 
 a larger lot. With its functional layout\, spacious setting\, 
 and additional outbuilding\, it’s a great opportunity for b
 uyers seeking comfort and room to enjoy. This property will 
 be sold AS-IS through an online auction\, with bidding closin
 g April 16th at 6:00 PM. A home inspection will be done prio
 r to the auction close date and be available to any register
 ed bidders\, and a 5% non-refundable down payment will be req
 uired of the purchaser within 24 hours of the closing of the
  auction. To register to bid\, please contact Derek Miesner 
 at (573) 576-7841. For information about the property call E
 lise Roth (573) 768-1479\, or Devin Hoehn (573) 846-8145.
URL:https://www.agribuckproperties.com/auctions/detail/bw158126
SEQUENCE:1
END:VEVENT
END:VCALENDAR